BEGIN:VCALENDAR
VERSION:2.0
PRODID:-//Ladybird Lane Nursery - ECPv6.8.2.1//NONSGML v1.0//EN
CALSCALE:GREGORIAN
METHOD:PUBLISH
X-WR-CALNAME:Ladybird Lane Nursery
X-ORIGINAL-URL:https://ladybirdlanenursery.co.uk
X-WR-CALDESC:Events for Ladybird Lane Nursery
REFRESH-INTERVAL;VALUE=DURATION:PT1H
X-Robots-Tag:noindex
X-PUBLISHED-TTL:PT1H
BEGIN:VTIMEZONE
TZID:UTC
BEGIN:STANDARD
TZOFFSETFROM:+0000
TZOFFSETTO:+0000
TZNAME:UTC
DTSTART:20200101T000000
END:STANDARD
END:VTIMEZONE
BEGIN:VEVENT
DTSTART;VALUE=DATE:20240603
DTEND;VALUE=DATE:20240604
DTSTAMP:20260421T054431
CREATED:20191002T195721Z
LAST-MODIFIED:20240227T013346Z
UID:642-1717372800-1717459199@ladybirdlanenursery.co.uk
SUMMARY:CONCEPT PHOTOGRAPHY
DESCRIPTION:  \nDON’T FORGET WE HAVE CONCEPT PHOTOGRAPHY COMING TO TAKE YOUR CHILD’S PHOTOS FOR YOU TO PURCHASE FROM THE PROOFS IN TIME BEFORE YOUR CHILD LEAVES FOR SCHOOL. \n\nSIBLINGS ARE WELCOME TO COME TOO\, WE WILL GET YOUR SEEN FIRST.\nIF YOU CHILD DOESN’T ATTEND NURSERY ON MONDAY’S THEN YOU ARE MORE THAN WELCOME TO COME TOO AND WE WILL GET YOU SEEN FIRST.
URL:https://ladybirdlanenursery.co.uk/event/art-work-copy-2-copy-copy-2/
ATTACH;FMTTYPE=image/jpeg:https://ladybirdlanenursery.co.uk/wp-content/uploads/2024/02/A6.jpg
END:VEVENT
BEGIN:VEVENT
DTSTART;VALUE=DATE:20210103
DTEND;VALUE=DATE:20210104
DTSTAMP:20260421T054431
CREATED:20200127T234659Z
LAST-MODIFIED:20240226T061044Z
UID:893-1609632000-1609718399@ladybirdlanenursery.co.uk
SUMMARY:World Book Day
DESCRIPTION:  \n\nGardening\nLearning about plants and gardening can help preschoolers develop an empathy for the environment. Gardening is also a fun\, healthy activity that most preschoolers are likely to enjoy. This preschool thematic unit on plants and gardening will acquaint preschoolers with some plant and gardening basics. \nWhen: 25 February 2019\, Mon\, 16:00-17:00 \nTeachers: Ashley\, Lindsay \nCategories: Gardening\, Outdoor \n\n\nObjectives\nThe preschoolers will learn how plants need to be nurtured and how to tend to a garden. They will learn to recognize different gardening tools and implements. They will learn the importance of water\, sunlight\, and soil for plant growth. They will develop: \n\nSpeaking skills by talking about what they have done or are doing.\nReading skills by perusing picture books.\nArt skills by drawing pictures of plants and gardens.\nMath skills by sorting plants and non-plants\, and counting number of plants\, leaves\, flowers\, and flower petals.\n\n\n\nMaterials\n\nPlants\, seedlings\, seeds\nGardening implements for children\nFlashcards of plants\nPhotographs and vide os of gardens\nPhotographs of garden creatures – butterflies\, bees\, birds\, etc.\nDrawing paper\nColors – water-color\, pastels\, pencils\, markers\nPicture books on the plant and gardening theme
URL:https://ladybirdlanenursery.co.uk/event/art-work-copy-2-copy-copy-2-copy/
ATTACH;FMTTYPE=image/jpeg:https://ladybirdlanenursery.co.uk/wp-content/uploads/2019/10/event-3.jpg
END:VEVENT
BEGIN:VEVENT
DTSTART;VALUE=DATE:20201229
DTEND;VALUE=DATE:20201230
DTSTAMP:20260421T054431
CREATED:20191002T194702Z
LAST-MODIFIED:20240226T061136Z
UID:626-1609200000-1609286399@ladybirdlanenursery.co.uk
SUMMARY:Red Nose Day/ Comic Relief & St. Patrick's Day
DESCRIPTION:  \n\nGardening\nLearning about plants and gardening can help preschoolers develop an empathy for the environment. Gardening is also a fun\, healthy activity that most preschoolers are likely to enjoy. This preschool thematic unit on plants and gardening will acquaint preschoolers with some plant and gardening basics. \nWhen: 25 February 2019\, Mon\, 16:00-17:00 \nTeachers: Ashley\, Lindsay \nCategories: Gardening\, Outdoor \n\n\nObjectives\nThe preschoolers will learn how plants need to be nurtured and how to tend to a garden. They will learn to recognize different gardening tools and implements. They will learn the importance of water\, sunlight\, and soil for plant growth. They will develop: \n\nSpeaking skills by talking about what they have done or are doing.\nReading skills by perusing picture books.\nArt skills by drawing pictures of plants and gardens.\nMath skills by sorting plants and non-plants\, and counting number of plants\, leaves\, flowers\, and flower petals.\n\n\n\nMaterials\n\nPlants\, seedlings\, seeds\nGardening implements for children\nFlashcards of plants\nPhotographs and vide os of gardens\nPhotographs of garden creatures – butterflies\, bees\, birds\, etc.\nDrawing paper\nColors – water-color\, pastels\, pencils\, markers\nPicture books on the plant and gardening theme
URL:https://ladybirdlanenursery.co.uk/event/gardening/
ATTACH;FMTTYPE=image/jpeg:https://ladybirdlanenursery.co.uk/wp-content/uploads/2019/09/event-1-big-1.jpg
END:VEVENT
BEGIN:VEVENT
DTSTART;VALUE=DATE:20201228
DTEND;VALUE=DATE:20201229
DTSTAMP:20260421T054431
CREATED:20200128T001518Z
LAST-MODIFIED:20240226T061338Z
UID:899-1609113600-1609199999@ladybirdlanenursery.co.uk
SUMMARY:Easter
DESCRIPTION:Nursery will be closed from Friday 29th April until Monday the 1st April. The Nursery will reopen on Tuesday 2nd April at 8am.
URL:https://ladybirdlanenursery.co.uk/event/music-lessons-1-copy-2/
ATTACH;FMTTYPE=image/jpeg:https://ladybirdlanenursery.co.uk/wp-content/uploads/2019/09/event-1-big-1.jpg
END:VEVENT
BEGIN:VEVENT
DTSTART;VALUE=DATE:20201223
DTEND;VALUE=DATE:20201225
DTSTAMP:20260421T054431
CREATED:20191002T194956Z
LAST-MODIFIED:20240226T061400Z
UID:628-1608681600-1608854399@ladybirdlanenursery.co.uk
SUMMARY:Vaisakhi
DESCRIPTION:  \n\nGardening\nLearning about plants and gardening can help preschoolers develop an empathy for the environment. Gardening is also a fun\, healthy activity that most preschoolers are likely to enjoy. This preschool thematic unit on plants and gardening will acquaint preschoolers with some plant and gardening basics. \nWhen: 25 February 2019\, Mon\, 16:00-17:00 \nTeachers: Ashley\, Lindsay \nCategories: Gardening\, Outdoor \n\n\nObjectives\nThe preschoolers will learn how plants need to be nurtured and how to tend to a garden. They will learn to recognize different gardening tools and implements. They will learn the importance of water\, sunlight\, and soil for plant growth. They will develop: \n\nSpeaking skills by talking about what they have done or are doing.\nReading skills by perusing picture books.\nArt skills by drawing pictures of plants and gardens.\nMath skills by sorting plants and non-plants\, and counting number of plants\, leaves\, flowers\, and flower petals.\n\n\n\nMaterials\n\nPlants\, seedlings\, seeds\nGardening implements for children\nFlashcards of plants\nPhotographs and vide os of gardens\nPhotographs of garden creatures – butterflies\, bees\, birds\, etc.\nDrawing paper\nColors – water-color\, pastels\, pencils\, markers\nPicture books on the plant and gardening theme
URL:https://ladybirdlanenursery.co.uk/event/math-lessons/
ATTACH;FMTTYPE=image/jpeg:https://ladybirdlanenursery.co.uk/wp-content/uploads/2019/10/event-3.jpg
END:VEVENT
BEGIN:VEVENT
DTSTART;VALUE=DATE:20201222
DTEND;VALUE=DATE:20201223
DTSTAMP:20260421T054431
CREATED:20200127T234611Z
LAST-MODIFIED:20200127T234611Z
UID:891-1608595200-1608681599@ladybirdlanenursery.co.uk
SUMMARY:Music Lessons
DESCRIPTION:  \n\nGardening\nLearning about plants and gardening can help preschoolers develop an empathy for the environment. Gardening is also a fun\, healthy activity that most preschoolers are likely to enjoy. This preschool thematic unit on plants and gardening will acquaint preschoolers with some plant and gardening basics. \nWhen: 25 February 2019\, Mon\, 16:00-17:00 \nTeachers: Ashley\, Lindsay \nCategories: Gardening\, Outdoor \n\n\nObjectives\nThe preschoolers will learn how plants need to be nurtured and how to tend to a garden. They will learn to recognize different gardening tools and implements. They will learn the importance of water\, sunlight\, and soil for plant growth. They will develop: \n\nSpeaking skills by talking about what they have done or are doing.\nReading skills by perusing picture books.\nArt skills by drawing pictures of plants and gardens.\nMath skills by sorting plants and non-plants\, and counting number of plants\, leaves\, flowers\, and flower petals.\n\n\n\nMaterials\n\nPlants\, seedlings\, seeds\nGardening implements for children\nFlashcards of plants\nPhotographs and vide os of gardens\nPhotographs of garden creatures – butterflies\, bees\, birds\, etc.\nDrawing paper\nColors – water-color\, pastels\, pencils\, markers\nPicture books on the plant and gardening theme
URL:https://ladybirdlanenursery.co.uk/event/music-lessons-1-copy/
ATTACH;FMTTYPE=image/jpeg:https://ladybirdlanenursery.co.uk/wp-content/uploads/2019/09/event-2.jpg
END:VEVENT
BEGIN:VEVENT
DTSTART;VALUE=DATE:20201221
DTEND;VALUE=DATE:20201222
DTSTAMP:20260421T054431
CREATED:20200127T234130Z
LAST-MODIFIED:20240226T061424Z
UID:887-1608508800-1608595199@ladybirdlanenursery.co.uk
SUMMARY:Eid
DESCRIPTION:  \n\nGardening\nLearning about plants and gardening can help preschoolers develop an empathy for the environment. Gardening is also a fun\, healthy activity that most preschoolers are likely to enjoy. This preschool thematic unit on plants and gardening will acquaint preschoolers with some plant and gardening basics. \nWhen: 25 February 2019\, Mon\, 16:00-17:00 \nTeachers: Ashley\, Lindsay \nCategories: Gardening\, Outdoor \n\n\nObjectives\nThe preschoolers will learn how plants need to be nurtured and how to tend to a garden. They will learn to recognize different gardening tools and implements. They will learn the importance of water\, sunlight\, and soil for plant growth. They will develop: \n\nSpeaking skills by talking about what they have done or are doing.\nReading skills by perusing picture books.\nArt skills by drawing pictures of plants and gardens.\nMath skills by sorting plants and non-plants\, and counting number of plants\, leaves\, flowers\, and flower petals.\n\n\n\nMaterials\n\nPlants\, seedlings\, seeds\nGardening implements for children\nFlashcards of plants\nPhotographs and vide os of gardens\nPhotographs of garden creatures – butterflies\, bees\, birds\, etc.\nDrawing paper\nColors – water-color\, pastels\, pencils\, markers\nPicture books on the plant and gardening theme
URL:https://ladybirdlanenursery.co.uk/event/excursion-2/
ATTACH;FMTTYPE=image/jpeg:https://ladybirdlanenursery.co.uk/wp-content/uploads/2019/09/event-2.jpg
END:VEVENT
BEGIN:VEVENT
DTSTART;VALUE=DATE:20201220
DTEND;VALUE=DATE:20201221
DTSTAMP:20260421T054431
CREATED:20200127T221330Z
LAST-MODIFIED:20240226T061452Z
UID:876-1608422400-1608508799@ladybirdlanenursery.co.uk
SUMMARY:St. George's Day
DESCRIPTION:  \n\nGardening\nLearning about plants and gardening can help preschoolers develop an empathy for the environment. Gardening is also a fun\, healthy activity that most preschoolers are likely to enjoy. This preschool thematic unit on plants and gardening will acquaint preschoolers with some plant and gardening basics. \nWhen: 25 February 2019\, Mon\, 16:00-17:00 \nTeachers: Ashley\, Lindsay \nCategories: Gardening\, Outdoor \n\n\nObjectives\nThe preschoolers will learn how plants need to be nurtured and how to tend to a garden. They will learn to recognize different gardening tools and implements. They will learn the importance of water\, sunlight\, and soil for plant growth. They will develop: \n\nSpeaking skills by talking about what they have done or are doing.\nReading skills by perusing picture books.\nArt skills by drawing pictures of plants and gardens.\nMath skills by sorting plants and non-plants\, and counting number of plants\, leaves\, flowers\, and flower petals.\n\n\n\nMaterials\n\nPlants\, seedlings\, seeds\nGardening implements for children\nFlashcards of plants\nPhotographs and vide os of gardens\nPhotographs of garden creatures – butterflies\, bees\, birds\, etc.\nDrawing paper\nColors – water-color\, pastels\, pencils\, markers\nPicture books on the plant and gardening theme
URL:https://ladybirdlanenursery.co.uk/event/art-work-copy-2-1/
ATTACH;FMTTYPE=image/jpeg:https://ladybirdlanenursery.co.uk/wp-content/uploads/2019/09/event-2.jpg
END:VEVENT
BEGIN:VEVENT
DTSTART;VALUE=DATE:20201213
DTEND;VALUE=DATE:20201214
DTSTAMP:20260421T054431
CREATED:20200127T221655Z
LAST-MODIFIED:20240226T061751Z
UID:879-1607817600-1607903999@ladybirdlanenursery.co.uk
SUMMARY:Christmas Party
DESCRIPTION:  \n\nGardening\nLearning about plants and gardening can help preschoolers develop an empathy for the environment. Gardening is also a fun\, healthy activity that most preschoolers are likely to enjoy. This preschool thematic unit on plants and gardening will acquaint preschoolers with some plant and gardening basics. \nWhen: 25 February 2019\, Mon\, 16:00-17:00 \nTeachers: Ashley\, Lindsay \nCategories: Gardening\, Outdoor \n\n\nObjectives\nThe preschoolers will learn how plants need to be nurtured and how to tend to a garden. They will learn to recognize different gardening tools and implements. They will learn the importance of water\, sunlight\, and soil for plant growth. They will develop: \n\nSpeaking skills by talking about what they have done or are doing.\nReading skills by perusing picture books.\nArt skills by drawing pictures of plants and gardens.\nMath skills by sorting plants and non-plants\, and counting number of plants\, leaves\, flowers\, and flower petals.\n\n\n\nMaterials\n\nPlants\, seedlings\, seeds\nGardening implements for children\nFlashcards of plants\nPhotographs and vide os of gardens\nPhotographs of garden creatures – butterflies\, bees\, birds\, etc.\nDrawing paper\nColors – water-color\, pastels\, pencils\, markers\nPicture books on the plant and gardening theme
URL:https://ladybirdlanenursery.co.uk/event/music-lessons-1/
ATTACH;FMTTYPE=image/jpeg:https://ladybirdlanenursery.co.uk/wp-content/uploads/2019/09/event-1-big-1.jpg
END:VEVENT
BEGIN:VEVENT
DTSTART;VALUE=DATE:20201211
DTEND;VALUE=DATE:20201212
DTSTAMP:20260421T054431
CREATED:20200127T223914Z
LAST-MODIFIED:20240226T062122Z
UID:881-1607644800-1607731199@ladybirdlanenursery.co.uk
SUMMARY:Concept Photography
DESCRIPTION:  \n\nGardening\nLearning about plants and gardening can help preschoolers develop an empathy for the environment. Gardening is also a fun\, healthy activity that most preschoolers are likely to enjoy. This preschool thematic unit on plants and gardening will acquaint preschoolers with some plant and gardening basics. \nWhen: 25 February 2019\, Mon\, 16:00-17:00 \nTeachers: Ashley\, Lindsay \nCategories: Gardening\, Outdoor \n\n\nObjectives\nThe preschoolers will learn how plants need to be nurtured and how to tend to a garden. They will learn to recognize different gardening tools and implements. They will learn the importance of water\, sunlight\, and soil for plant growth. They will develop: \n\nSpeaking skills by talking about what they have done or are doing.\nReading skills by perusing picture books.\nArt skills by drawing pictures of plants and gardens.\nMath skills by sorting plants and non-plants\, and counting number of plants\, leaves\, flowers\, and flower petals.\n\n\n\nMaterials\n\nPlants\, seedlings\, seeds\nGardening implements for children\nFlashcards of plants\nPhotographs and vide os of gardens\nPhotographs of garden creatures – butterflies\, bees\, birds\, etc.\nDrawing paper\nColors – water-color\, pastels\, pencils\, markers\nPicture books on the plant and gardening theme
URL:https://ladybirdlanenursery.co.uk/event/gardening-copy/
ATTACH;FMTTYPE=image/jpeg:https://ladybirdlanenursery.co.uk/wp-content/uploads/2019/09/event-1-big-1.jpg
END:VEVENT
BEGIN:VEVENT
DTSTART;VALUE=DATE:20201207
DTEND;VALUE=DATE:20201208
DTSTAMP:20260421T054431
CREATED:20200128T001046Z
LAST-MODIFIED:20200128T001046Z
UID:895-1607299200-1607385599@ladybirdlanenursery.co.uk
SUMMARY:Art Work
DESCRIPTION:  \n\nGardening\nLearning about plants and gardening can help preschoolers develop an empathy for the environment. Gardening is also a fun\, healthy activity that most preschoolers are likely to enjoy. This preschool thematic unit on plants and gardening will acquaint preschoolers with some plant and gardening basics. \nWhen: 25 February 2019\, Mon\, 16:00-17:00 \nTeachers: Ashley\, Lindsay \nCategories: Gardening\, Outdoor \n\n\nObjectives\nThe preschoolers will learn how plants need to be nurtured and how to tend to a garden. They will learn to recognize different gardening tools and implements. They will learn the importance of water\, sunlight\, and soil for plant growth. They will develop: \n\nSpeaking skills by talking about what they have done or are doing.\nReading skills by perusing picture books.\nArt skills by drawing pictures of plants and gardens.\nMath skills by sorting plants and non-plants\, and counting number of plants\, leaves\, flowers\, and flower petals.\n\n\n\nMaterials\n\nPlants\, seedlings\, seeds\nGardening implements for children\nFlashcards of plants\nPhotographs and vide os of gardens\nPhotographs of garden creatures – butterflies\, bees\, birds\, etc.\nDrawing paper\nColors – water-color\, pastels\, pencils\, markers\nPicture books on the plant and gardening theme
URL:https://ladybirdlanenursery.co.uk/event/art-work-2-copy/
ATTACH;FMTTYPE=image/jpeg:https://ladybirdlanenursery.co.uk/wp-content/uploads/2019/09/event-2.jpg
END:VEVENT
BEGIN:VEVENT
DTSTART;VALUE=DATE:20201206
DTEND;VALUE=DATE:20201207
DTSTAMP:20260421T054431
CREATED:20191002T195426Z
LAST-MODIFIED:20191002T195426Z
UID:637-1607212800-1607299199@ladybirdlanenursery.co.uk
SUMMARY:Music Lessons
DESCRIPTION:  \n\nGardening\nLearning about plants and gardening can help preschoolers develop an empathy for the environment. Gardening is also a fun\, healthy activity that most preschoolers are likely to enjoy. This preschool thematic unit on plants and gardening will acquaint preschoolers with some plant and gardening basics. \nWhen: 25 February 2019\, Mon\, 16:00-17:00 \nTeachers: Ashley\, Lindsay \nCategories: Gardening\, Outdoor \n\n\nObjectives\nThe preschoolers will learn how plants need to be nurtured and how to tend to a garden. They will learn to recognize different gardening tools and implements. They will learn the importance of water\, sunlight\, and soil for plant growth. They will develop: \n\nSpeaking skills by talking about what they have done or are doing.\nReading skills by perusing picture books.\nArt skills by drawing pictures of plants and gardens.\nMath skills by sorting plants and non-plants\, and counting number of plants\, leaves\, flowers\, and flower petals.\n\n\n\nMaterials\n\nPlants\, seedlings\, seeds\nGardening implements for children\nFlashcards of plants\nPhotographs and vide os of gardens\nPhotographs of garden creatures – butterflies\, bees\, birds\, etc.\nDrawing paper\nColors – water-color\, pastels\, pencils\, markers\nPicture books on the plant and gardening theme
URL:https://ladybirdlanenursery.co.uk/event/music-lessons/
ATTACH;FMTTYPE=image/jpeg:https://ladybirdlanenursery.co.uk/wp-content/uploads/2019/09/event-1-big-1.jpg
END:VEVENT
BEGIN:VEVENT
DTSTART;VALUE=DATE:20201204
DTEND;VALUE=DATE:20201205
DTSTAMP:20260421T054431
CREATED:20200103T195651Z
LAST-MODIFIED:20200103T195651Z
UID:640-1607040000-1607126399@ladybirdlanenursery.co.uk
SUMMARY:Art Work
DESCRIPTION:  \n\nGardening\nLearning about plants and gardening can help preschoolers develop an empathy for the environment. Gardening is also a fun\, healthy activity that most preschoolers are likely to enjoy. This preschool thematic unit on plants and gardening will acquaint preschoolers with some plant and gardening basics. \nWhen: 25 February 2019\, Mon\, 16:00-17:00 \nTeachers: Ashley\, Lindsay \nCategories: Gardening\, Outdoor \n\n\nObjectives\nThe preschoolers will learn how plants need to be nurtured and how to tend to a garden. They will learn to recognize different gardening tools and implements. They will learn the importance of water\, sunlight\, and soil for plant growth. They will develop: \n\nSpeaking skills by talking about what they have done or are doing.\nReading skills by perusing picture books.\nArt skills by drawing pictures of plants and gardens.\nMath skills by sorting plants and non-plants\, and counting number of plants\, leaves\, flowers\, and flower petals.\n\n\n\nMaterials\n\nPlants\, seedlings\, seeds\nGardening implements for children\nFlashcards of plants\nPhotographs and vide os of gardens\nPhotographs of garden creatures – butterflies\, bees\, birds\, etc.\nDrawing paper\nColors – water-color\, pastels\, pencils\, markers\nPicture books on the plant and gardening theme
URL:https://ladybirdlanenursery.co.uk/event/art-work-2/
ATTACH;FMTTYPE=image/jpeg:https://ladybirdlanenursery.co.uk/wp-content/uploads/2019/09/event-1-big-1.jpg
END:VEVENT
BEGIN:VEVENT
DTSTART;VALUE=DATE:20201203
DTEND;VALUE=DATE:20201204
DTSTAMP:20260421T054431
CREATED:20190923T205617Z
LAST-MODIFIED:20190923T205617Z
UID:362-1606953600-1607039999@ladybirdlanenursery.co.uk
SUMMARY:Music Lessons
DESCRIPTION:  \n\nGardening\nLearning about plants and gardening can help preschoolers develop an empathy for the environment. Gardening is also a fun\, healthy activity that most preschoolers are likely to enjoy. This preschool thematic unit on plants and gardening will acquaint preschoolers with some plant and gardening basics. \nWhen: 25 February 2019\, Mon\, 16:00-17:00 \nTeachers: Ashley\, Lindsay \nCategories: Gardening\, Outdoor \n\n\nObjectives\nThe preschoolers will learn how plants need to be nurtured and how to tend to a garden. They will learn to recognize different gardening tools and implements. They will learn the importance of water\, sunlight\, and soil for plant growth. They will develop: \n\nSpeaking skills by talking about what they have done or are doing.\nReading skills by perusing picture books.\nArt skills by drawing pictures of plants and gardens.\nMath skills by sorting plants and non-plants\, and counting number of plants\, leaves\, flowers\, and flower petals.\n\n\n\nMaterials\n\nPlants\, seedlings\, seeds\nGardening implements for children\nFlashcards of plants\nPhotographs and vide os of gardens\nPhotographs of garden creatures – butterflies\, bees\, birds\, etc.\nDrawing paper\nColors – water-color\, pastels\, pencils\, markers\nPicture books on the plant and gardening theme
URL:https://ladybirdlanenursery.co.uk/event/art-work/
ATTACH;FMTTYPE=image/jpeg:https://ladybirdlanenursery.co.uk/wp-content/uploads/2019/09/event-1-big-1.jpg
END:VEVENT
BEGIN:VEVENT
DTSTART;VALUE=DATE:20201201
DTEND;VALUE=DATE:20201202
DTSTAMP:20260421T054431
CREATED:20191002T194402Z
LAST-MODIFIED:20191002T194402Z
UID:622-1606780800-1606867199@ladybirdlanenursery.co.uk
SUMMARY:Art Work
DESCRIPTION:  \n\nGardening\nLearning about plants and gardening can help preschoolers develop an empathy for the environment. Gardening is also a fun\, healthy activity that most preschoolers are likely to enjoy. This preschool thematic unit on plants and gardening will acquaint preschoolers with some plant and gardening basics. \nWhen: 25 February 2019\, Mon\, 16:00-17:00 \nTeachers: Ashley\, Lindsay \nCategories: Gardening\, Outdoor \n\n\nObjectives\nThe preschoolers will learn how plants need to be nurtured and how to tend to a garden. They will learn to recognize different gardening tools and implements. They will learn the importance of water\, sunlight\, and soil for plant growth. They will develop: \n\nSpeaking skills by talking about what they have done or are doing.\nReading skills by perusing picture books.\nArt skills by drawing pictures of plants and gardens.\nMath skills by sorting plants and non-plants\, and counting number of plants\, leaves\, flowers\, and flower petals.\n\n\n\nMaterials\n\nPlants\, seedlings\, seeds\nGardening implements for children\nFlashcards of plants\nPhotographs and vide os of gardens\nPhotographs of garden creatures – butterflies\, bees\, birds\, etc.\nDrawing paper\nColors – water-color\, pastels\, pencils\, markers\nPicture books on the plant and gardening theme
URL:https://ladybirdlanenursery.co.uk/event/art-work-1/
ATTACH;FMTTYPE=image/jpeg:https://ladybirdlanenursery.co.uk/wp-content/uploads/2019/09/event-1-big-1.jpg
END:VEVENT
END:VCALENDAR