BEGIN:VCALENDAR
VERSION:2.0
PRODID:-//Ladybird Lane Nursery - ECPv6.8.2.1//NONSGML v1.0//EN
CALSCALE:GREGORIAN
METHOD:PUBLISH
X-ORIGINAL-URL:https://ladybirdlanenursery.co.uk
X-WR-CALDESC:Events for Ladybird Lane Nursery
REFRESH-INTERVAL;VALUE=DURATION:PT1H
X-Robots-Tag:noindex
X-PUBLISHED-TTL:PT1H
BEGIN:VTIMEZONE
TZID:UTC
BEGIN:STANDARD
TZOFFSETFROM:+0000
TZOFFSETTO:+0000
TZNAME:UTC
DTSTART:20240101T000000
END:STANDARD
END:VTIMEZONE
BEGIN:VEVENT
DTSTART;VALUE=DATE:20240603
DTEND;VALUE=DATE:20240604
DTSTAMP:20260423T060132
CREATED:20191002T195721Z
LAST-MODIFIED:20240227T013346Z
UID:642-1717372800-1717459199@ladybirdlanenursery.co.uk
SUMMARY:CONCEPT PHOTOGRAPHY
DESCRIPTION:  \nDON’T FORGET WE HAVE CONCEPT PHOTOGRAPHY COMING TO TAKE YOUR CHILD’S PHOTOS FOR YOU TO PURCHASE FROM THE PROOFS IN TIME BEFORE YOUR CHILD LEAVES FOR SCHOOL. \n\nSIBLINGS ARE WELCOME TO COME TOO\, WE WILL GET YOUR SEEN FIRST.\nIF YOU CHILD DOESN’T ATTEND NURSERY ON MONDAY’S THEN YOU ARE MORE THAN WELCOME TO COME TOO AND WE WILL GET YOU SEEN FIRST.
URL:https://ladybirdlanenursery.co.uk/event/art-work-copy-2-copy-copy-2/
ATTACH;FMTTYPE=image/jpeg:https://ladybirdlanenursery.co.uk/wp-content/uploads/2024/02/A6.jpg
END:VEVENT
END:VCALENDAR